BEGIN:VCALENDAR
VERSION:2.0
PRODID:-//ONC - Office of the National Coordinator for Health Information Technology - ECPv6.15.3//NONSGML v1.0//EN
CALSCALE:GREGORIAN
METHOD:PUBLISH
X-ORIGINAL-URL:https://healthit.gov
X-WR-CALDESC:Events for ONC - Office of the National Coordinator for Health Information Technology
REFRESH-INTERVAL;VALUE=DURATION:PT1H
X-Robots-Tag:noindex
X-PUBLISHED-TTL:PT1H
BEGIN:VTIMEZONE
TZID:America/New_York
BEGIN:DAYLIGHT
TZOFFSETFROM:-0500
TZOFFSETTO:-0400
TZNAME:EDT
DTSTART:20260308T070000
END:DAYLIGHT
BEGIN:STANDARD
TZOFFSETFROM:-0400
TZOFFSETTO:-0500
TZNAME:EST
DTSTART:20261101T060000
END:STANDARD
END:VTIMEZONE
BEGIN:VEVENT
DTSTART;TZID=America/New_York:20260427T150000
DTEND;TZID=America/New_York:20260427T163000
DTSTAMP:20260423T065006
CREATED:20260319T202434Z
LAST-MODIFIED:20260422T143754Z
UID:10001751-1777302000-1777307400@healthit.gov
SUMMARY:Annual Report Workgroup
DESCRIPTION:
URL:https://healthit.gov/event/annual-report-workgroup-39/
CATEGORIES:HITAC
END:VEVENT
BEGIN:VEVENT
DTSTART;TZID=America/New_York:20260429T130000
DTEND;TZID=America/New_York:20260429T140000
DTSTAMP:20260423T065006
CREATED:20260420T140109Z
LAST-MODIFIED:20260420T140701Z
UID:10001780-1777467600-1777471200@healthit.gov
SUMMARY:KidneyX Empower Challenge Informational Webinar
DESCRIPTION:Join us for an informational webinar on the KidneyX Empower: Living Link Prize Challenge Competition\, a groundbreaking initiative offering a $4 million total prize purse for scalable\, innovative solutions that accelerate living organ donation. Our mission is to solve the friction points in living kidney donation—bridging the critical gap between a potential donor considering donation and actually giving the gift of life. Whether your expertise lies in community health\, digital tools\, clinical practices\, or educational outreach\, we want your innovative ideas to help us transform the donor journey. Who Should Attend? Innovators\, healthcare professionals\, community organizers\, tech developers\, data scientists\, and advocates dedicated to improving living kidney donation rates.
URL:https://healthit.gov/event/kidneyx-empower-challenge-informational-webinar/
END:VEVENT
BEGIN:VEVENT
DTSTART;TZID=America/New_York:20260507T100000
DTEND;TZID=America/New_York:20260507T150000
DTSTAMP:20260423T065006
CREATED:20260121T131946Z
LAST-MODIFIED:20260420T183352Z
UID:10001729-1778148000-1778166000@healthit.gov
SUMMARY:Health IT Advisory Committee
DESCRIPTION:PLEASE NOTE: This meeting will take place in person at the Hubert H. Humphrey Federal Building starting at 10:00 AM ET. A virtual option is available for those who are not attending in person. All attendees\, regardless of attendance type\, must register using the link below. \nIf you plan to attend in person\, please arrive 30 minutes early to allow time for security screening. All in person attendees must present a REAL ID-compliant driver’s license\, US passport\, or other acceptable ID. \n\nIf you are a United States citizen/ resident member of the public and would like to attend in person\, you must register via the above registration link by May 4\, 2026\, and select “In Person.”\nIf you are a non-United States citizen/ resident member of the public\, the in-person registration window has closed. You may still attend virtually by registering at the above link and selecting “Virtually.”
URL:https://healthit.gov/event/health-information-technology-advisory-committee-2/
LOCATION:Hubert H. Humphrey Federal Building\, Penthouse (8th floor)\, 200 Independence Avenue SW\, Washington\, DC\, 20201\, United States
CATEGORIES:HITAC
END:VEVENT
BEGIN:VEVENT
DTSTART;TZID=America/New_York:20260511T150000
DTEND;TZID=America/New_York:20260511T163000
DTSTAMP:20260423T065006
CREATED:20260319T202702Z
LAST-MODIFIED:20260319T202702Z
UID:10001752-1778511600-1778517000@healthit.gov
SUMMARY:Annual Report Workgroup
DESCRIPTION:
URL:https://healthit.gov/event/annual-report-workgroup-40/
CATEGORIES:HITAC
END:VEVENT
BEGIN:VEVENT
DTSTART;TZID=America/New_York:20260512T130000
DTEND;TZID=America/New_York:20260512T140000
DTSTAMP:20260423T065006
CREATED:20260420T140326Z
LAST-MODIFIED:20260420T140630Z
UID:10001781-1778590800-1778594400@healthit.gov
SUMMARY:KidneyX Empower Challenge Informational Webinar
DESCRIPTION:Join us for an informational webinar on the KidneyX Empower: Living Link Prize Challenge Competition\, a groundbreaking initiative offering a $4 million total prize purse for scalable\, innovative solutions that accelerate living organ donation. Our mission is to solve the friction points in living kidney donation—bridging the critical gap between a potential donor considering donation and actually giving the gift of life. Whether your expertise lies in community health\, digital tools\, clinical practices\, or educational outreach\, we want your innovative ideas to help us transform the donor journey. Who Should Attend? Innovators\, healthcare professionals\, community organizers\, tech developers\, data scientists\, and advocates dedicated to improving living kidney donation rates.
URL:https://healthit.gov/event/kidneyx-empower-challenge-informational-webinar-2/
END:VEVENT
BEGIN:VEVENT
DTSTART;TZID=America/New_York:20260520T150000
DTEND;TZID=America/New_York:20260520T163000
DTSTAMP:20260423T065006
CREATED:20260319T202832Z
LAST-MODIFIED:20260319T202832Z
UID:10001753-1779289200-1779294600@healthit.gov
SUMMARY:Annual Report Workgroup
DESCRIPTION:
URL:https://healthit.gov/event/annual-report-workgroup-41/
CATEGORIES:HITAC
END:VEVENT
BEGIN:VEVENT
DTSTART;TZID=America/New_York:20260610T100000
DTEND;TZID=America/New_York:20260610T113000
DTSTAMP:20260423T065006
CREATED:20260319T204325Z
LAST-MODIFIED:20260319T204325Z
UID:10001754-1781085600-1781091000@healthit.gov
SUMMARY:Annual Report Workgroup
DESCRIPTION:
URL:https://healthit.gov/event/annual-report-workgroup-42/
CATEGORIES:HITAC
END:VEVENT
BEGIN:VEVENT
DTSTART;TZID=America/New_York:20260622T150000
DTEND;TZID=America/New_York:20260622T163000
DTSTAMP:20260423T065006
CREATED:20260319T204430Z
LAST-MODIFIED:20260319T204430Z
UID:10001755-1782140400-1782145800@healthit.gov
SUMMARY:Annual Report Workgroup
DESCRIPTION:
URL:https://healthit.gov/event/annual-report-workgroup-43/
CATEGORIES:HITAC
END:VEVENT
BEGIN:VEVENT
DTSTART;TZID=America/New_York:20260720T150000
DTEND;TZID=America/New_York:20260720T163000
DTSTAMP:20260423T065006
CREATED:20260319T204527Z
LAST-MODIFIED:20260319T204527Z
UID:10001756-1784559600-1784565000@healthit.gov
SUMMARY:Annual Report Workgroup
DESCRIPTION:
URL:https://healthit.gov/event/annual-report-workgroup-44/
CATEGORIES:HITAC
END:VEVENT
BEGIN:VEVENT
DTSTART;TZID=America/New_York:20260730T150000
DTEND;TZID=America/New_York:20260730T163000
DTSTAMP:20260423T065006
CREATED:20260319T204616Z
LAST-MODIFIED:20260319T204616Z
UID:10001757-1785423600-1785429000@healthit.gov
SUMMARY:Annual Report Workgroup
DESCRIPTION:
URL:https://healthit.gov/event/annual-report-workgroup-45/
CATEGORIES:HITAC
END:VEVENT
BEGIN:VEVENT
DTSTART;TZID=America/New_York:20260817T140000
DTEND;TZID=America/New_York:20260817T153000
DTSTAMP:20260423T065006
CREATED:20260319T204821Z
LAST-MODIFIED:20260319T204821Z
UID:10001758-1786975200-1786980600@healthit.gov
SUMMARY:Annual Report Workgroup
DESCRIPTION:
URL:https://healthit.gov/event/annual-report-workgroup-46/
CATEGORIES:HITAC
END:VEVENT
BEGIN:VEVENT
DTSTART;TZID=America/New_York:20260831T140000
DTEND;TZID=America/New_York:20260831T153000
DTSTAMP:20260423T065006
CREATED:20260319T204912Z
LAST-MODIFIED:20260319T204912Z
UID:10001759-1788184800-1788190200@healthit.gov
SUMMARY:Annual Report Workgroup
DESCRIPTION:
URL:https://healthit.gov/event/annual-report-workgroup-47/
CATEGORIES:HITAC
END:VEVENT
BEGIN:VEVENT
DTSTART;TZID=America/New_York:20260914T150000
DTEND;TZID=America/New_York:20260914T163000
DTSTAMP:20260423T065006
CREATED:20260319T204956Z
LAST-MODIFIED:20260319T204956Z
UID:10001760-1789398000-1789403400@healthit.gov
SUMMARY:Annual Report Workgroup
DESCRIPTION:
URL:https://healthit.gov/event/annual-report-workgroup-48/
CATEGORIES:HITAC
END:VEVENT
BEGIN:VEVENT
DTSTART;TZID=America/New_York:20260924T100000
DTEND;TZID=America/New_York:20260924T150000
DTSTAMP:20260423T065006
CREATED:20260121T132803Z
LAST-MODIFIED:20260123T140708Z
UID:10001730-1790244000-1790262000@healthit.gov
SUMMARY:Health IT Advisory Committee
DESCRIPTION:
URL:https://healthit.gov/event/health-information-technology-advisory-committee-3/
CATEGORIES:HITAC
END:VEVENT
BEGIN:VEVENT
DTSTART;TZID=America/New_York:20260930T100000
DTEND;TZID=America/New_York:20260930T113000
DTSTAMP:20260423T065006
CREATED:20260319T205113Z
LAST-MODIFIED:20260319T205113Z
UID:10001761-1790762400-1790767800@healthit.gov
SUMMARY:Annual Report Workgroup
DESCRIPTION:
URL:https://healthit.gov/event/annual-report-workgroup-49/
CATEGORIES:HITAC
END:VEVENT
BEGIN:VEVENT
DTSTART;TZID=America/New_York:20261015T150000
DTEND;TZID=America/New_York:20261015T163000
DTSTAMP:20260423T065006
CREATED:20260319T205204Z
LAST-MODIFIED:20260319T205204Z
UID:10001762-1792076400-1792081800@healthit.gov
SUMMARY:Annual Report Workgroup
DESCRIPTION:
URL:https://healthit.gov/event/annual-report-workgroup-50/
CATEGORIES:HITAC
END:VEVENT
BEGIN:VEVENT
DTSTART;TZID=America/New_York:20261028T100000
DTEND;TZID=America/New_York:20261028T113000
DTSTAMP:20260423T065006
CREATED:20260319T205250Z
LAST-MODIFIED:20260319T205250Z
UID:10001763-1793181600-1793187000@healthit.gov
SUMMARY:Annual Report Workgroup
DESCRIPTION:
URL:https://healthit.gov/event/annual-report-workgroup-51/
CATEGORIES:HITAC
END:VEVENT
BEGIN:VEVENT
DTSTART;TZID=America/New_York:20261105T100000
DTEND;TZID=America/New_York:20261105T150000
DTSTAMP:20260423T065006
CREATED:20260121T132833Z
LAST-MODIFIED:20260123T174710Z
UID:10001731-1793872800-1793890800@healthit.gov
SUMMARY:Health IT Advisory Committee
DESCRIPTION:
URL:https://healthit.gov/event/health-information-technology-advisory-committee-4/
CATEGORIES:HITAC
END:VEVENT
END:VCALENDAR